BEGIN:VCALENDAR
VERSION:2.0
PRODID:-//Area 93 District 22 - ECPv6.15.20//NONSGML v1.0//EN
CALSCALE:GREGORIAN
METHOD:PUBLISH
X-WR-CALNAME:Area 93 District 22
X-ORIGINAL-URL:https://d22aa.org
X-WR-CALDESC:Events for Area 93 District 22
REFRESH-INTERVAL;VALUE=DURATION:PT1H
X-Robots-Tag:noindex
X-PUBLISHED-TTL:PT1H
BEGIN:VTIMEZONE
TZID:America/Los_Angeles
BEGIN:DAYLIGHT
TZOFFSETFROM:-0800
TZOFFSETTO:-0700
TZNAME:PDT
DTSTART:20230312T100000
END:DAYLIGHT
BEGIN:STANDARD
TZOFFSETFROM:-0700
TZOFFSETTO:-0800
TZNAME:PST
DTSTART:20231105T090000
END:STANDARD
BEGIN:DAYLIGHT
TZOFFSETFROM:-0800
TZOFFSETTO:-0700
TZNAME:PDT
DTSTART:20240310T100000
END:DAYLIGHT
BEGIN:STANDARD
TZOFFSETFROM:-0700
TZOFFSETTO:-0800
TZNAME:PST
DTSTART:20241103T090000
END:STANDARD
BEGIN:DAYLIGHT
TZOFFSETFROM:-0800
TZOFFSETTO:-0700
TZNAME:PDT
DTSTART:20250309T100000
END:DAYLIGHT
BEGIN:STANDARD
TZOFFSETFROM:-0700
TZOFFSETTO:-0800
TZNAME:PST
DTSTART:20251102T090000
END:STANDARD
END:VTIMEZONE
BEGIN:VEVENT
DTSTART;TZID=America/Los_Angeles:20240811T101500
DTEND;TZID=America/Los_Angeles:20240811T113000
DTSTAMP:20260419T084257
CREATED:20240810T041332Z
LAST-MODIFIED:20240810T041332Z
UID:5083-1723371300-1723375800@d22aa.org
SUMMARY:District 22 Business Meeting
DESCRIPTION:The Alano Club 075 Broad Street\, San Luis Obispo \nand on Zoom ID: 88279258044 PW: D22GSR
URL:https://d22aa.org/event/district-22-business-meeting-2/
LOCATION:SLO Alano Club\, 3075 Broad St.\, San Luis Obispo\, 93449
END:VEVENT
BEGIN:VEVENT
DTSTART;VALUE=DATE:20240816
DTEND;VALUE=DATE:20240819
DTSTAMP:20260419T084257
CREATED:20240719T041637Z
LAST-MODIFIED:20240719T041854Z
UID:4975-1723766400-1724025599@d22aa.org
SUMMARY:Waves of Recovery
DESCRIPTION:Summer Beach Campout
URL:https://d22aa.org/event/waves-of-recovery/
LOCATION:Morro Strand State Beach\, Yerba Buena St.\, Morro Bay\, CA\, United States
ATTACH;FMTTYPE=image/jpeg:https://d22aa.org/wp-content/uploads/2024/07/MorroStrandCampout.jpg
ORGANIZER;CN="SLOPYPAA":MAILTO:slopyfunds@gmail.com
END:VEVENT
BEGIN:VEVENT
DTSTART;TZID=America/Los_Angeles:20240818T080000
DTEND;TZID=America/Los_Angeles:20240818T170000
DTSTAMP:20260419T084257
CREATED:20240710T012941Z
LAST-MODIFIED:20240719T013102Z
UID:4908-1723968000-1724000400@d22aa.org
SUMMARY:Area 93 Assembly
DESCRIPTION:
URL:https://d22aa.org/event/area-93-assembly-4/
LOCATION:Goleta Community Center\, 5679 Hollister Ave\, Goleta\, CA\, 93117\, United States
END:VEVENT
BEGIN:VEVENT
DTSTART;TZID=America/Los_Angeles:20240818T083000
DTEND;TZID=America/Los_Angeles:20240818T170000
DTSTAMP:20260419T084257
CREATED:20240814T233705Z
LAST-MODIFIED:20240814T233705Z
UID:5111-1723969800-1724000400@d22aa.org
SUMMARY:Central California Area 93 Assembly\, August 18\, 2024
DESCRIPTION:Area Hybrid Assembly – Sunday August18\, 2024\nID: 819 2181 4392- Passcode: Panel73\n5679 Hollister Ave\, Goleta CA 93117
URL:https://d22aa.org/event/central-california-area-93-assembly-august-18-2024/
LOCATION:CA
END:VEVENT
BEGIN:VEVENT
DTSTART;TZID=America/Los_Angeles:20240823T080000
DTEND;TZID=America/Los_Angeles:20240825T120000
DTSTAMP:20260419T084257
CREATED:20240719T020614Z
LAST-MODIFIED:20240719T020614Z
UID:4962-1724400000-1724587200@d22aa.org
SUMMARY:57th District 22 Convention
DESCRIPTION:
URL:https://d22aa.org/event/57th-district-22-convention/
LOCATION:SLO Veteran’s Hall\, 801 Grand Ave.\, San Luis Obispo\, CA
ATTACH;FMTTYPE=image/jpeg:https://d22aa.org/wp-content/uploads/2024/07/2024District22Convention-scaled.jpg
END:VEVENT
END:VCALENDAR