BEGIN:VCALENDAR
VERSION:2.0
PRODID:-//Area 93 District 22 - ECPv6.15.20//NONSGML v1.0//EN
CALSCALE:GREGORIAN
METHOD:PUBLISH
X-WR-CALNAME:Area 93 District 22
X-ORIGINAL-URL:https://d22aa.org
X-WR-CALDESC:Events for Area 93 District 22
REFRESH-INTERVAL;VALUE=DURATION:PT1H
X-Robots-Tag:noindex
X-PUBLISHED-TTL:PT1H
BEGIN:VTIMEZONE
TZID:America/Los_Angeles
BEGIN:DAYLIGHT
TZOFFSETFROM:-0800
TZOFFSETTO:-0700
TZNAME:PDT
DTSTART:20230312T100000
END:DAYLIGHT
BEGIN:STANDARD
TZOFFSETFROM:-0700
TZOFFSETTO:-0800
TZNAME:PST
DTSTART:20231105T090000
END:STANDARD
BEGIN:DAYLIGHT
TZOFFSETFROM:-0800
TZOFFSETTO:-0700
TZNAME:PDT
DTSTART:20240310T100000
END:DAYLIGHT
BEGIN:STANDARD
TZOFFSETFROM:-0700
TZOFFSETTO:-0800
TZNAME:PST
DTSTART:20241103T090000
END:STANDARD
BEGIN:DAYLIGHT
TZOFFSETFROM:-0800
TZOFFSETTO:-0700
TZNAME:PDT
DTSTART:20250309T100000
END:DAYLIGHT
BEGIN:STANDARD
TZOFFSETFROM:-0700
TZOFFSETTO:-0800
TZNAME:PST
DTSTART:20251102T090000
END:STANDARD
END:VTIMEZONE
BEGIN:VEVENT
DTSTART;TZID=America/Los_Angeles:20240317T133000
DTEND;TZID=America/Los_Angeles:20240317T163000
DTSTAMP:20260419T165419
CREATED:20240312T050741Z
LAST-MODIFIED:20240312T052433Z
UID:4622-1710682200-1710693000@d22aa.org
SUMMARY:SLOPYPAA St. Patrick's Day
DESCRIPTION:
URL:https://d22aa.org/event/4622/
LOCATION:SLO Alano Club\, 3075 Broad St.\, San Luis Obispo\, 93449
ATTACH;FMTTYPE=image/jpeg:https://d22aa.org/wp-content/uploads/2024/03/IMG_2639-e1710221041587.jpg
ORGANIZER;CN="SLOPYPAA":MAILTO:slopyfunds@gmail.com
END:VEVENT
BEGIN:VEVENT
DTSTART;TZID=America/Los_Angeles:20240331T190000
DTEND;TZID=America/Los_Angeles:20240331T200000
DTSTAMP:20260419T165419
CREATED:20240330T000044Z
LAST-MODIFIED:20240330T000044Z
UID:4675-1711911600-1711915200@d22aa.org
SUMMARY:A.A. Service Manual Study
DESCRIPTION:Sundays from 7pm-8pm we will read the A.A. Service Manual with the 12 Concepts and discuss. \nJoin us\, starting March 31\, 2024!
URL:https://d22aa.org/event/a-a-service-manual-study/
LOCATION:CA
ATTACH;FMTTYPE=image/jpeg:https://d22aa.org/wp-content/uploads/2024/03/A93ServiceManualStudy2024JPG.jpg
END:VEVENT
END:VCALENDAR