BEGIN:VCALENDAR
VERSION:2.0
PRODID:-//Area 93 District 22 - ECPv6.15.20//NONSGML v1.0//EN
CALSCALE:GREGORIAN
METHOD:PUBLISH
X-WR-CALNAME:Area 93 District 22
X-ORIGINAL-URL:https://d22aa.org
X-WR-CALDESC:Events for Area 93 District 22
REFRESH-INTERVAL;VALUE=DURATION:PT1H
X-Robots-Tag:noindex
X-PUBLISHED-TTL:PT1H
BEGIN:VTIMEZONE
TZID:America/Los_Angeles
BEGIN:DAYLIGHT
TZOFFSETFROM:-0800
TZOFFSETTO:-0700
TZNAME:PDT
DTSTART:20220313T100000
END:DAYLIGHT
BEGIN:STANDARD
TZOFFSETFROM:-0700
TZOFFSETTO:-0800
TZNAME:PST
DTSTART:20221106T090000
END:STANDARD
BEGIN:DAYLIGHT
TZOFFSETFROM:-0800
TZOFFSETTO:-0700
TZNAME:PDT
DTSTART:20230312T100000
END:DAYLIGHT
BEGIN:STANDARD
TZOFFSETFROM:-0700
TZOFFSETTO:-0800
TZNAME:PST
DTSTART:20231105T090000
END:STANDARD
BEGIN:DAYLIGHT
TZOFFSETFROM:-0800
TZOFFSETTO:-0700
TZNAME:PDT
DTSTART:20240310T100000
END:DAYLIGHT
BEGIN:STANDARD
TZOFFSETFROM:-0700
TZOFFSETTO:-0800
TZNAME:PST
DTSTART:20241103T090000
END:STANDARD
END:VTIMEZONE
BEGIN:VEVENT
DTSTART;TZID=America/Los_Angeles:20230507T130000
DTEND;TZID=America/Los_Angeles:20230507T160000
DTSTAMP:20260422T150307
CREATED:20230506T174404Z
LAST-MODIFIED:20230506T174701Z
UID:4004-1683464400-1683475200@d22aa.org
SUMMARY:SLOPYPAA Sunday Get Down
DESCRIPTION:
URL:https://d22aa.org/event/4004/
LOCATION:Meadow Park\, 2251 Meadow St.\, San Luis Obispo\, CA\, 93401\, United States
ORGANIZER;CN="SLOPYPAA":MAILTO:slopyfunds@gmail.com
END:VEVENT
BEGIN:VEVENT
DTSTART;VALUE=DATE:20230521
DTEND;VALUE=DATE:20230522
DTSTAMP:20260422T150307
CREATED:20230517T041907Z
LAST-MODIFIED:20230517T045626Z
UID:4028-1684627200-1684713599@d22aa.org
SUMMARY:Area 93 Hybrid Assembly
DESCRIPTION:May 21 Assembly Agenda with zoom info
URL:https://d22aa.org/event/area-93-hybrid-assembly/
LOCATION:Legacy Commons\, 930 East Ave\, Q-9 Palmdale\, CA\, 93550\, United States
END:VEVENT
END:VCALENDAR