BEGIN:VCALENDAR
VERSION:2.0
PRODID:-//Area 93 District 22 - ECPv6.15.20//NONSGML v1.0//EN
CALSCALE:GREGORIAN
METHOD:PUBLISH
X-WR-CALNAME:Area 93 District 22
X-ORIGINAL-URL:https://d22aa.org
X-WR-CALDESC:Events for Area 93 District 22
REFRESH-INTERVAL;VALUE=DURATION:PT1H
X-Robots-Tag:noindex
X-PUBLISHED-TTL:PT1H
BEGIN:VTIMEZONE
TZID:America/Los_Angeles
BEGIN:DAYLIGHT
TZOFFSETFROM:-0800
TZOFFSETTO:-0700
TZNAME:PDT
DTSTART:20210314T100000
END:DAYLIGHT
BEGIN:STANDARD
TZOFFSETFROM:-0700
TZOFFSETTO:-0800
TZNAME:PST
DTSTART:20211107T090000
END:STANDARD
BEGIN:DAYLIGHT
TZOFFSETFROM:-0800
TZOFFSETTO:-0700
TZNAME:PDT
DTSTART:20220313T100000
END:DAYLIGHT
BEGIN:STANDARD
TZOFFSETFROM:-0700
TZOFFSETTO:-0800
TZNAME:PST
DTSTART:20221106T090000
END:STANDARD
BEGIN:DAYLIGHT
TZOFFSETFROM:-0800
TZOFFSETTO:-0700
TZNAME:PDT
DTSTART:20230312T100000
END:DAYLIGHT
BEGIN:STANDARD
TZOFFSETFROM:-0700
TZOFFSETTO:-0800
TZNAME:PST
DTSTART:20231105T090000
END:STANDARD
END:VTIMEZONE
BEGIN:VEVENT
DTSTART;VALUE=DATE:20220303
DTEND;VALUE=DATE:20220306
DTSTAMP:20260420T222542
CREATED:20221214T010421Z
LAST-MODIFIED:20221214T010421Z
UID:3702-1646265600-1646524799@d22aa.org
SUMMARY:PRAASA
DESCRIPTION:PRAASA\nPacific Region Alcoholics Anonymous Service Assembly\nLos Angeles\nAll welcomed to attend! \nTo register go to https://praasa.org/
URL:https://d22aa.org/event/praasa/
LOCATION:CA
END:VEVENT
BEGIN:VEVENT
DTSTART;TZID=America/Los_Angeles:20220220T090000
DTEND;TZID=America/Los_Angeles:20220220T170000
DTSTAMP:20260420T222542
CREATED:20220217T040621Z
LAST-MODIFIED:20220224T035119Z
UID:694-1645347600-1645376400@d22aa.org
SUMMARY:Area 93 Assembly (HYBRID)
DESCRIPTION:Hybrid = In-person and Online \nAttended by GSRs or their alternates\, DCM\, Alternate DCMs\, Standing Committee Chairs\, All are welcomed. \n 
URL:https://d22aa.org/event/area-93-assembly-hybrid/
LOCATION:Oxnard Performing Arts Center\, 800 Hobson Way\, Oxnard\, CA\, 93030
END:VEVENT
BEGIN:VEVENT
DTSTART;TZID=America/Los_Angeles:20220213T101500
DTEND;TZID=America/Los_Angeles:20220213T113000
DTSTAMP:20260420T222542
CREATED:20220220T052324Z
LAST-MODIFIED:20220220T055507Z
UID:725-1644747300-1644751800@d22aa.org
SUMMARY:District 22 / GSR Meeting
DESCRIPTION:Monthly District 22 meeting  \nHybrid: In-person and Online\nTo be attended by the GSRs or their alternates\, the DCM\, Alternate DCM\, Treasurer\, Secretary\, Registrar\, Standing Committee Chairs\, and Liaisons. Visitors welcomed.
URL:https://d22aa.org/event/district-22-gsr-meeting-5/
LOCATION:SLO Alano Club\, 3075 Broad St.\, San Luis Obispo\, 93449
END:VEVENT
BEGIN:VEVENT
DTSTART;TZID=America/Los_Angeles:20220116T090000
DTEND;TZID=America/Los_Angeles:20220116T130000
DTSTAMP:20260420T222542
CREATED:20220220T063119Z
LAST-MODIFIED:20220220T063119Z
UID:752-1642323600-1642338000@d22aa.org
SUMMARY:Area Committee Meeting (ACM) (Zoom)
DESCRIPTION:Attended by the DCM\, Alternate DCMs\, and Standing Committee Chairs. GSRs are not required to go\, but are welcomed.
URL:https://d22aa.org/event/area-committee-meeting-acm-zoom/
LOCATION:CA
END:VEVENT
BEGIN:VEVENT
DTSTART;TZID=America/Los_Angeles:20220109T101500
DTEND;TZID=America/Los_Angeles:20220109T113000
DTSTAMP:20260420T222542
CREATED:20220220T054551Z
LAST-MODIFIED:20220220T054551Z
UID:740-1641723300-1641727800@d22aa.org
SUMMARY:District 22 / GSR Meeting
DESCRIPTION:Monthly District 22 meeting  \nHybrid: In-person and Online\nTo be attended by the GSRs or their alternates\, the DCM\, Alternate DCM\, Treasurer\, Secretary\, Registrar\, Standing Committee Chairs\, and Liaisons. Visitors welcomed.
URL:https://d22aa.org/event/district-22-gsr-meeting-12/
LOCATION:SLO Alano Club\, 3075 Broad St.\, San Luis Obispo\, 93449
END:VEVENT
END:VCALENDAR