BEGIN:VCALENDAR
VERSION:2.0
PRODID:-//Area 93 District 22 - ECPv6.15.20//NONSGML v1.0//EN
CALSCALE:GREGORIAN
METHOD:PUBLISH
X-ORIGINAL-URL:https://d22aa.org
X-WR-CALDESC:Events for Area 93 District 22
REFRESH-INTERVAL;VALUE=DURATION:PT1H
X-Robots-Tag:noindex
X-PUBLISHED-TTL:PT1H
BEGIN:VTIMEZONE
TZID:America/Los_Angeles
BEGIN:DAYLIGHT
TZOFFSETFROM:-0800
TZOFFSETTO:-0700
TZNAME:PDT
DTSTART:20230312T100000
END:DAYLIGHT
BEGIN:STANDARD
TZOFFSETFROM:-0700
TZOFFSETTO:-0800
TZNAME:PST
DTSTART:20231105T090000
END:STANDARD
BEGIN:DAYLIGHT
TZOFFSETFROM:-0800
TZOFFSETTO:-0700
TZNAME:PDT
DTSTART:20240310T100000
END:DAYLIGHT
BEGIN:STANDARD
TZOFFSETFROM:-0700
TZOFFSETTO:-0800
TZNAME:PST
DTSTART:20241103T090000
END:STANDARD
BEGIN:DAYLIGHT
TZOFFSETFROM:-0800
TZOFFSETTO:-0700
TZNAME:PDT
DTSTART:20250309T100000
END:DAYLIGHT
BEGIN:STANDARD
TZOFFSETFROM:-0700
TZOFFSETTO:-0800
TZNAME:PST
DTSTART:20251102T090000
END:STANDARD
END:VTIMEZONE
BEGIN:VEVENT
DTSTART;TZID=America/Los_Angeles:20241006T100000
DTEND;TZID=America/Los_Angeles:20241006T140000
DTSTAMP:20260419T084545
CREATED:20240815T024641Z
LAST-MODIFIED:20240815T025921Z
UID:5125-1728208800-1728223200@d22aa.org
SUMMARY:AA History in Area 93
DESCRIPTION:Area 93 Archives Committee presents:\nAA History in Area 93 (Hybrid)\nHonoring our past\,\nEmbracing our future.\nAA History in L.A. – Tracy B.\nFather Dowling – John S.\nPioneer Trustees – Chris\nHistory of Spanish Speaking Meetings – Sergio \nOn Zoom ($0) and in the Room ($15)!\nCheck Flyer for Zoom Info
URL:https://d22aa.org/event/aa-history-in-area-93/
LOCATION:Casa del Mexicana\, 218 S. 11th St.\, Santa Paula\, CA\, 93060\, United States
ATTACH;FMTTYPE=image/jpeg:https://d22aa.org/wp-content/uploads/2024/08/AA-History-in-Area-93-10-6-2024.jpeg
END:VEVENT
END:VCALENDAR