BEGIN:VCALENDAR
VERSION:2.0
PRODID:-//Area 93 District 22 - ECPv6.15.20//NONSGML v1.0//EN
CALSCALE:GREGORIAN
METHOD:PUBLISH
X-WR-CALNAME:Area 93 District 22
X-ORIGINAL-URL:https://d22aa.org
X-WR-CALDESC:Events for Area 93 District 22
REFRESH-INTERVAL;VALUE=DURATION:PT1H
X-Robots-Tag:noindex
X-PUBLISHED-TTL:PT1H
BEGIN:VTIMEZONE
TZID:America/Los_Angeles
BEGIN:DAYLIGHT
TZOFFSETFROM:-0800
TZOFFSETTO:-0700
TZNAME:PDT
DTSTART:20230312T100000
END:DAYLIGHT
BEGIN:STANDARD
TZOFFSETFROM:-0700
TZOFFSETTO:-0800
TZNAME:PST
DTSTART:20231105T090000
END:STANDARD
BEGIN:DAYLIGHT
TZOFFSETFROM:-0800
TZOFFSETTO:-0700
TZNAME:PDT
DTSTART:20240310T100000
END:DAYLIGHT
BEGIN:STANDARD
TZOFFSETFROM:-0700
TZOFFSETTO:-0800
TZNAME:PST
DTSTART:20241103T090000
END:STANDARD
BEGIN:DAYLIGHT
TZOFFSETFROM:-0800
TZOFFSETTO:-0700
TZNAME:PDT
DTSTART:20250309T100000
END:DAYLIGHT
BEGIN:STANDARD
TZOFFSETFROM:-0700
TZOFFSETTO:-0800
TZNAME:PST
DTSTART:20251102T090000
END:STANDARD
END:VTIMEZONE
BEGIN:VEVENT
DTSTART;TZID=America/Los_Angeles:20240811T101500
DTEND;TZID=America/Los_Angeles:20240811T113000
DTSTAMP:20260419T101136
CREATED:20240810T041332Z
LAST-MODIFIED:20240810T041332Z
UID:5083-1723371300-1723375800@d22aa.org
SUMMARY:District 22 Business Meeting
DESCRIPTION:The Alano Club 075 Broad Street\, San Luis Obispo \nand on Zoom ID: 88279258044 PW: D22GSR
URL:https://d22aa.org/event/district-22-business-meeting-2/
LOCATION:SLO Alano Club\, 3075 Broad St.\, San Luis Obispo\, 93449
END:VEVENT
END:VCALENDAR