BEGIN:VCALENDAR
VERSION:2.0
PRODID:-//Area 93 District 22 - ECPv6.15.20//NONSGML v1.0//EN
CALSCALE:GREGORIAN
METHOD:PUBLISH
X-WR-CALNAME:Area 93 District 22
X-ORIGINAL-URL:https://d22aa.org
X-WR-CALDESC:Events for Area 93 District 22
REFRESH-INTERVAL;VALUE=DURATION:PT1H
X-Robots-Tag:noindex
X-PUBLISHED-TTL:PT1H
BEGIN:VTIMEZONE
TZID:America/Los_Angeles
BEGIN:DAYLIGHT
TZOFFSETFROM:-0800
TZOFFSETTO:-0700
TZNAME:PDT
DTSTART:20230312T100000
END:DAYLIGHT
BEGIN:STANDARD
TZOFFSETFROM:-0700
TZOFFSETTO:-0800
TZNAME:PST
DTSTART:20231105T090000
END:STANDARD
BEGIN:DAYLIGHT
TZOFFSETFROM:-0800
TZOFFSETTO:-0700
TZNAME:PDT
DTSTART:20240310T100000
END:DAYLIGHT
BEGIN:STANDARD
TZOFFSETFROM:-0700
TZOFFSETTO:-0800
TZNAME:PST
DTSTART:20241103T090000
END:STANDARD
BEGIN:DAYLIGHT
TZOFFSETFROM:-0800
TZOFFSETTO:-0700
TZNAME:PDT
DTSTART:20250309T100000
END:DAYLIGHT
BEGIN:STANDARD
TZOFFSETFROM:-0700
TZOFFSETTO:-0800
TZNAME:PST
DTSTART:20251102T090000
END:STANDARD
END:VTIMEZONE
BEGIN:VEVENT
DTSTART;TZID=America/Los_Angeles:20240512T101500
DTEND;TZID=America/Los_Angeles:20240512T113000
DTSTAMP:20260419T153217
CREATED:20240504T195638Z
LAST-MODIFIED:20240504T195638Z
UID:4710-1715508900-1715513400@d22aa.org
SUMMARY:District 22 Committee Meeting
DESCRIPTION:District 22 Committee Meeting. \nHybrid Meeting: Zoom Meeting ID: 88279258044\, PW: D22GSR. \nAddress: 3075 Broad St.\, San Luis Obispo\, Ca 93401
URL:https://d22aa.org/event/district-22-committee-meeting/
LOCATION:SLO Alano Club\, 3075 Broad St.\, San Luis Obispo\, 93449
ORGANIZER;CN="DCM":MAILTO:district22dcm@gmail.com
END:VEVENT
END:VCALENDAR